BEGIN:VCALENDAR
VERSION:2.0
PRODID:-//CSM - ECPv6.15.20//NONSGML v1.0//EN
CALSCALE:GREGORIAN
METHOD:PUBLISH
X-ORIGINAL-URL:https://csmpublishing.org
X-WR-CALDESC:Events for CSM
REFRESH-INTERVAL;VALUE=DURATION:PT1H
X-Robots-Tag:noindex
X-PUBLISHED-TTL:PT1H
BEGIN:VTIMEZONE
TZID:America/New_York
BEGIN:DAYLIGHT
TZOFFSETFROM:-0500
TZOFFSETTO:-0400
TZNAME:EDT
DTSTART:20220313T070000
END:DAYLIGHT
BEGIN:STANDARD
TZOFFSETFROM:-0400
TZOFFSETTO:-0500
TZNAME:EST
DTSTART:20221106T060000
END:STANDARD
BEGIN:DAYLIGHT
TZOFFSETFROM:-0500
TZOFFSETTO:-0400
TZNAME:EDT
DTSTART:20230312T070000
END:DAYLIGHT
BEGIN:STANDARD
TZOFFSETFROM:-0400
TZOFFSETTO:-0500
TZNAME:EST
DTSTART:20231105T060000
END:STANDARD
BEGIN:DAYLIGHT
TZOFFSETFROM:-0500
TZOFFSETTO:-0400
TZNAME:EDT
DTSTART:20240310T070000
END:DAYLIGHT
BEGIN:STANDARD
TZOFFSETFROM:-0400
TZOFFSETTO:-0500
TZNAME:EST
DTSTART:20241103T060000
END:STANDARD
BEGIN:DAYLIGHT
TZOFFSETFROM:-0500
TZOFFSETTO:-0400
TZNAME:EDT
DTSTART:20250309T070000
END:DAYLIGHT
BEGIN:STANDARD
TZOFFSETFROM:-0400
TZOFFSETTO:-0500
TZNAME:EST
DTSTART:20251102T060000
END:STANDARD
END:VTIMEZONE
BEGIN:VEVENT
DTSTART;VALUE=DATE:20231109
DTEND;VALUE=DATE:20231112
DTSTAMP:20260420T011726
CREATED:20231020T200855Z
LAST-MODIFIED:20231020T200855Z
UID:13579-1699488000-1699747199@csmpublishing.org
SUMMARY:Faith Alive - Hunt\, TX-Revive Men's Retreat- Stephen Simpson
DESCRIPTION:2023 Revive Men’s Retreat\nThurs Pm – Sat afternoon\nHunt\, Texas
URL:https://csmpublishing.org/event/faith-alive-hunt-tx-revive-mens-retreat-stephen-simpson/
LOCATION:Faith Alive – 2023 Alive Men’s Retreat\, 2229 FM 1340\, Hunt\, TX\, 78024\, United States
END:VEVENT
BEGIN:VEVENT
DTSTART;TZID=America/New_York:20231112T100000
DTEND;TZID=America/New_York:20231112T120000
DTSTAMP:20260420T011726
CREATED:20231020T201139Z
LAST-MODIFIED:20260120T094558Z
UID:13581-1699783200-1699790400@csmpublishing.org
SUMMARY:Faith Alive - New Braunfels\, TX - Stephen Simpson
DESCRIPTION:Faith Alive Sunday Service \n\n\n\n\n\nService time: Sundays at 10:00am CST\nWe have age-appropriate classes for your kids from birth to 5th grade during all adult services.  \nIf you can’t make it to a service in person\, we would love to have you join us for any of our services online on our official Facebook Page or Youtube Channel \n\n\n\n\n\n\n\n\n\n\nWHAT DO I WEAR?   We encourage members and guests to come just as they are. \n\n\n\n\n\n\n\n\n 
URL:https://csmpublishing.org/event/faith-alive-new-braunfels-tx-stephen-simpson/
LOCATION:Faith Alive Church\, 1311 Industrial Drive\, Suite A & B\, New Braunfels\, 78130\, United States
END:VEVENT
BEGIN:VEVENT
DTSTART;TZID=America/New_York:20231203T093000
DTEND;TZID=America/New_York:20231203T120000
DTSTAMP:20260420T011726
CREATED:20231020T195102Z
LAST-MODIFIED:20231020T195102Z
UID:13576-1701595800-1701604800@csmpublishing.org
SUMMARY:Saddleback Covenant Church - Charles Simpson
DESCRIPTION:Saddleback Covenant Church \n23401 MADEROMISSION VIEJO\, CA 92691 \nPastor Kevin Davenport \n\n(949) 770-0291\ninfo​@saddlebackcovenant.com
URL:https://csmpublishing.org/event/saddleback-covenant-church-charles-simpson/
LOCATION:Saddleback Covenant Church\, 23401 Madero Ste. A\, Mission Viejo\, CA\, 92691\, United States
END:VEVENT
BEGIN:VEVENT
DTSTART;TZID=America/New_York:20240425T100000
DTEND;TZID=America/New_York:20240425T130000
DTSTAMP:20260420T011726
CREATED:20240305T210439Z
LAST-MODIFIED:20240312T153943Z
UID:13776-1714039200-1714050000@csmpublishing.org
SUMMARY:Celebration of Life Service honoring Charles Simpson April 25th\, 2024
DESCRIPTION:We will gather at Covenant Church of Mobile\, 7150 Hitt Road (corner of Hitt and Cody Roads)\, on April 25\, 2024. There will be a time for visitation with our family and friends from 10:00 AM until just before noon. Then\, at 12:00 PM\, the Celebration of Life service will begin. \nIf you plan on attending\, could you please let us know as soon as possible? Contact our office at (251) 633-7900 or RSVP below. \n \n . \n  \n 
URL:https://csmpublishing.org/event/celebration-of-life-service-honoring-charles-simpson-april-25th-2024/
LOCATION:Covenant Church of Mobile\, 7150 Hitt Road\, Mobile\, AL\, 36695\, United States
CATEGORIES:Events
ATTACH;FMTTYPE=image/jpeg:https://csmpublishing.org/wp-content/uploads/2024/03/cvs_standing_atpulpit.jpg
ORGANIZER;CN="Susanne Simpson":MAILTO:customer.service@csmpublishing.org
END:VEVENT
END:VCALENDAR